BEGIN:VCALENDAR
PRODID:-//SINGPromos.com//NONSGML v1.0//EN
VERSION:2.0
CALSCALE:GREGORIAN
METHOD:PUBLISH
X-WR-CALNAME:SINGPromos.com
X-ORIGINAL-URL:https://singpromos.com
X-WR-CALDESC:Events for SINGPromos.com
BEGIN:VEVENT
DTSTART:20120911T000000
DTEND:20120923T235900
DTSTAMP:20260420T050919
CREATED:20120911T174203
LAST-MODIFIED:20120911T174203
UID:42325@https://singpromos.com
SUMMARY:Wing Tai Topshop, Topman, Ben Sherman, Dorothy Perkins & Miss Selfridge Sale 11 - 23 Sep 2012
DESCRIPTION:Topshop, Topman, Ben Sherman, Dorothy Perkins & Miss Selfridge Sale are collectively having a Bazaar sale till 23 September 2012 at Wing Tai Industrial Centre, 105 Tampines Road, 12pm to 7pm. For more information, visit [ https://singpromos.com/warehouse-sales/wing-tai-topshop-topman-ben-sherman-dorothy-perkins-miss-selfridge-sale-11-23-sep-2012-42325/ ]. 
LOCATION:105 Tampines Road
URL:https://singpromos.com/warehouse-sales/wing-tai-topshop-topman-ben-sherman-dorothy-perkins-miss-selfridge-sale-11-23-sep-2012-42325/
END:VEVENT
END:VCALENDAR