BEGIN:VCALENDAR
PRODID:-//SINGPromos.com//NONSGML v1.0//EN
VERSION:2.0
CALSCALE:GREGORIAN
METHOD:PUBLISH
X-WR-CALNAME:SINGPromos.com
X-ORIGINAL-URL:https://singpromos.com
X-WR-CALDESC:Events for SINGPromos.com
BEGIN:VEVENT
DTSTART:20120921T000000
DTEND:20120923T235900
DTSTAMP:20260420T231753
CREATED:20120921T122111
LAST-MODIFIED:20120921T122136
UID:43040@https://singpromos.com
SUMMARY:Zuji Singapore 15% OFF ALL Singapore Hotels Coupon Code 21 - 23 Sep 2012
DESCRIPTION:Enjoy an additional 15% OFF Singapore hotels from 21 September to 23 September 2012 at www.zuji.com.sg with this coupon code. Minimum $500 spend required. For more information, visit [ https://singpromos.com/vacations/zuji-singapore-15-off-all-singapore-hotels-coupon-code-21-23-sep-2012-43040/ ]. 
LOCATION:
URL:https://singpromos.com/vacations/zuji-singapore-15-off-all-singapore-hotels-coupon-code-21-23-sep-2012-43040/
END:VEVENT
END:VCALENDAR