BEGIN:VCALENDAR
PRODID:-//SINGPromos.com//NONSGML v1.0//EN
VERSION:2.0
CALSCALE:GREGORIAN
METHOD:PUBLISH
X-WR-CALNAME:SINGPromos.com
X-ORIGINAL-URL:https://singpromos.com
X-WR-CALDESC:Events for SINGPromos.com
BEGIN:VEVENT
DTSTART:20120921T000000
DTEND:20121014T235900
DTSTAMP:20260424T024315
CREATED:20120921T215835
LAST-MODIFIED:20120921T215835
UID:43125@https://singpromos.com
SUMMARY:Courts iPad 3 Free Up To $180 iPad Accessories Voucher 21 Sep - 14 Oct 2012
DESCRIPTION:Courts is giving away iPad accessories vouchers worth from $120 to $180 with every purchase of the iPad 3 at their stores. Prices are similar to the Apple Store at www.apple.com/sg but you get an extra free gift here. . For more information, visit [ https://singpromos.com/apple/courts-ipad-3-free-up-to-180-ipad-accessories-voucher-21-sep-14-oct-2012-43125/ ]. 
LOCATION:
URL:https://singpromos.com/apple/courts-ipad-3-free-up-to-180-ipad-accessories-voucher-21-sep-14-oct-2012-43125/
END:VEVENT
END:VCALENDAR