BEGIN:VCALENDAR
PRODID:-//SINGPromos.com//NONSGML v1.0//EN
VERSION:2.0
CALSCALE:GREGORIAN
METHOD:PUBLISH
X-WR-CALNAME:SINGPromos.com
X-ORIGINAL-URL:https://singpromos.com
X-WR-CALDESC:Events for SINGPromos.com
BEGIN:VEVENT
DTSTART:20120925T000000
DTEND:20121014T235900
DTSTAMP:20260420T050907
CREATED:20120924T133455
LAST-MODIFIED:20120924T133455
UID:43341@https://singpromos.com
SUMMARY:Fox Fashion & Pumpkin Patch Sale @ Wing Tai 25 Sep - 14 Oct 2012
DESCRIPTION:Wing Tai will be having a sale of Fox and Pumpkin Patch branded fashion items at their factory outlet at Wing Tai Industrial Centre from 25 September to 14 October 2012. What's more, buy 3 and get 1 FREE.. For more information, visit [ https://singpromos.com/warehouse-sales/fox-fashion-pumpkin-patch-sale-wing-tai-25-sep-14-oct-2012-43341/ ]. 
LOCATION:105 Tampines Road, 535127
URL:https://singpromos.com/warehouse-sales/fox-fashion-pumpkin-patch-sale-wing-tai-25-sep-14-oct-2012-43341/
END:VEVENT
END:VCALENDAR