BEGIN:VCALENDAR
PRODID:-//SINGPromos.com//NONSGML v1.0//EN
VERSION:2.0
CALSCALE:GREGORIAN
METHOD:PUBLISH
X-WR-CALNAME:SINGPromos.com
X-ORIGINAL-URL:https://singpromos.com
X-WR-CALDESC:Events for SINGPromos.com
BEGIN:VEVENT
DTSTART:20120926T000000
DTEND:20121003T235900
DTSTAMP:20260422T082112
CREATED:20120926T145109
LAST-MODIFIED:20121004T134141
UID:43468@https://singpromos.com
SUMMARY:Pariss Buffet & Banquet 23% Off International Buffet Dinner 26 Sep 2012
DESCRIPTION:Enjoy authentic and traditional Oriental cuisine with this deal: $36.80 per pax instead of $47.80 for International Buffet Dinner at Pariss Buffet & Banquet Restaurant, Marina Square with more than 200 dishes + Free Flow Drinks (weekend option available) - that's 23% off the usual price! Learn how to get the deal before it ends soon. For more information, visit [ https://singpromos.com/dining-restaurants-food/pariss-buffet-banquet-23-off-international-buffet-dinner-26-sep-2012-43468/ ]. 
LOCATION:6 Raffles Boulevard, 039594
URL:https://singpromos.com/dining-restaurants-food/pariss-buffet-banquet-23-off-international-buffet-dinner-26-sep-2012-43468/
END:VEVENT
END:VCALENDAR