BEGIN:VCALENDAR
PRODID:-//SINGPromos.com//NONSGML v1.0//EN
VERSION:2.0
CALSCALE:GREGORIAN
METHOD:PUBLISH
X-WR-CALNAME:SINGPromos.com
X-ORIGINAL-URL:https://singpromos.com
X-WR-CALDESC:Events for SINGPromos.com
BEGIN:VEVENT
DTSTART:20120927T000000
DTEND:20121014T235900
DTSTAMP:20260422T082108
CREATED:20120926T144916
LAST-MODIFIED:20120926T145237
UID:43487@https://singpromos.com
SUMMARY:Hush Puppies Apparel Warehouse Sale 27 Sep - 14 Oct 2012
DESCRIPTION:Redina Trading will be having their Hush Puppies Apparel annual warehouse sale with up to 80% off from 27 September till 14 October 2012, 1030am to 7pm daily at 17 Bukit Batok Street 22.. For more information, visit [ https://singpromos.com/warehouse-sales/hush-puppies-apparel-warehouse-sale-27-sep-14-oct-2012-43487/ ]. 
LOCATION:17 Bukit Batok Street 22, 659587
URL:https://singpromos.com/warehouse-sales/hush-puppies-apparel-warehouse-sale-27-sep-14-oct-2012-43487/
END:VEVENT
END:VCALENDAR