BEGIN:VCALENDAR
PRODID:-//SINGPromos.com//NONSGML v1.0//EN
VERSION:2.0
CALSCALE:GREGORIAN
METHOD:PUBLISH
X-WR-CALNAME:SINGPromos.com
X-ORIGINAL-URL:https://singpromos.com
X-WR-CALDESC:Events for SINGPromos.com
BEGIN:VEVENT
DTSTART:20120926T000000
DTEND:20121128T235900
DTSTAMP:20260422T082129
CREATED:20120926T214540
LAST-MODIFIED:20121018T003830
UID:43506@https://singpromos.com
SUMMARY:Thai Airways MasterCard Special Air Fares 26 Sep - 28 Nov 2012
DESCRIPTION:Be amazed with exclusive all-in MasterCard First Class and Business Class air fares that will leave you speechless! Valid for travel from now till 28 February 2013.. For more information, visit [ https://singpromos.com/airlines-flights/thai-airways-mastercard-special-air-fares-26-sep-28-nov-2012-43506/ ]. 
LOCATION:
URL:https://singpromos.com/airlines-flights/thai-airways-mastercard-special-air-fares-26-sep-28-nov-2012-43506/
END:VEVENT
END:VCALENDAR