BEGIN:VCALENDAR
PRODID:-//SINGPromos.com//NONSGML v1.0//EN
VERSION:2.0
CALSCALE:GREGORIAN
METHOD:PUBLISH
X-WR-CALNAME:SINGPromos.com
X-ORIGINAL-URL:https://singpromos.com
X-WR-CALDESC:Events for SINGPromos.com
BEGIN:VEVENT
DTSTART:20111202T000000
DTEND:20111231T235900
DTSTAMP:20260422T082131
CREATED:20111205T012416
LAST-MODIFIED:20120927T012911
UID:43515@https://singpromos.com
SUMMARY:Giant Hypermarket Christmas Catalogue Offers 2 - 31 Dec 2011
DESCRIPTION:Here is Giant Hypermarket's Dec 2011 monthly catalogue offers for Christmas. For more information, visit [ https://singpromos.com/department-stores/giant-hypermart-christmas-catalogue-offers-2-31-dec-2011-43515/ ]. 
LOCATION:
URL:https://singpromos.com/department-stores/giant-hypermart-christmas-catalogue-offers-2-31-dec-2011-43515/
END:VEVENT
END:VCALENDAR