BEGIN:VCALENDAR
PRODID:-//SINGPromos.com//NONSGML v1.0//EN
VERSION:2.0
CALSCALE:GREGORIAN
METHOD:PUBLISH
X-WR-CALNAME:SINGPromos.com
X-ORIGINAL-URL:https://singpromos.com
X-WR-CALDESC:Events for SINGPromos.com
BEGIN:VEVENT
DTSTART:20120929T000000
DTEND:20121005T235900
DTSTAMP:20260422T082132
CREATED:20120929T140822
LAST-MODIFIED:20120929T140822
UID:43817@https://singpromos.com
SUMMARY:Singtel Smartphones, Tablets, Home/Mobile Broadband & Mio TV Offers 29 Sep - 5 Oct 2012
DESCRIPTION:Here is Singtel's latest mobile phones, tablets and broadband promotions andspecial offers for this week, presumably valid till 5 Oct 2012. For more information, visit [ https://singpromos.com/telecoms/singtel-smartphones-tablets-homemobile-broadband-mio-tv-offers-29-sep-5-oct-2012-43817/ ]. 
LOCATION:
URL:https://singpromos.com/telecoms/singtel-smartphones-tablets-homemobile-broadband-mio-tv-offers-29-sep-5-oct-2012-43817/
END:VEVENT
END:VCALENDAR