BEGIN:VCALENDAR
PRODID:-//SINGPromos.com//NONSGML v1.0//EN
VERSION:2.0
CALSCALE:GREGORIAN
METHOD:PUBLISH
X-WR-CALNAME:SINGPromos.com
X-ORIGINAL-URL:https://singpromos.com
X-WR-CALDESC:Events for SINGPromos.com
BEGIN:VEVENT
DTSTART:20121005T000000
DTEND:20121007T235900
DTSTAMP:20260422T082144
CREATED:20121003T115634
LAST-MODIFIED:20121007T140233
UID:44078@https://singpromos.com
SUMMARY:Harvey Norman Expo Sale @ Singapore Expo 5 - 7 Oct 2012
DESCRIPTION:Harvey Norman will be having a Expo Sale from 5 October to 7 October 2012, 10am to 9pm at Singapore Expo Hall 5B. Brands participating at the event include ASUS, Belkin, Acer, Canon, Olympus, Sony, TDK, JVC, Pioneer, Microsoft and more.. For more information, visit [ https://singpromos.com/happenings/harvey-norman-expo-sale-singapore-expo-5-7-oct-2012-44078/ ]. 
LOCATION:
URL:https://singpromos.com/happenings/harvey-norman-expo-sale-singapore-expo-5-7-oct-2012-44078/
END:VEVENT
END:VCALENDAR