BEGIN:VCALENDAR
PRODID:-//SINGPromos.com//NONSGML v1.0//EN
VERSION:2.0
CALSCALE:GREGORIAN
METHOD:PUBLISH
X-WR-CALNAME:SINGPromos.com
X-ORIGINAL-URL:https://singpromos.com
X-WR-CALDESC:Events for SINGPromos.com
BEGIN:VEVENT
DTSTART:20121001T000000
DTEND:20121031T235900
DTSTAMP:20260424T015020
CREATED:20121005T201138
LAST-MODIFIED:20121024T150504
UID:44314@https://singpromos.com
SUMMARY:Eu Yan Sang 133rd Anniversary Specials 1 - 31 Oct 2012
DESCRIPTION:Eu Yan Sang is celebrating 133 years of caring with a series of special offers, weekly specials and monthly specials.. For more information, visit [ https://singpromos.com/health/eu-yan-sang-133th-anniversary-specials-1-31-oct-2012-44314/ ]. 
LOCATION:
URL:https://singpromos.com/health/eu-yan-sang-133th-anniversary-specials-1-31-oct-2012-44314/
END:VEVENT
END:VCALENDAR