BEGIN:VCALENDAR
PRODID:-//SINGPromos.com//NONSGML v1.0//EN
VERSION:2.0
CALSCALE:GREGORIAN
METHOD:PUBLISH
X-WR-CALNAME:SINGPromos.com
X-ORIGINAL-URL:https://singpromos.com
X-WR-CALDESC:Events for SINGPromos.com
BEGIN:VEVENT
DTSTART:20121005T000000
DTEND:20121014T235900
DTSTAMP:20260420T021716
CREATED:20121005T215630
LAST-MODIFIED:20121010T235948
UID:44358@https://singpromos.com
SUMMARY:77th Street Apparels Up To 70% Off @ Selected Outlets 5 Oct 2012
DESCRIPTION:77th Street is having an up to 70% off promotion on apparels while stocks last, at selected outlets only.. For more information, visit [ https://singpromos.com/fashion-accessories/77th-street-apparels-up-to-70-off-selected-outlets-5-oct-2012-44358/ ]. 
LOCATION:
URL:https://singpromos.com/fashion-accessories/77th-street-apparels-up-to-70-off-selected-outlets-5-oct-2012-44358/
END:VEVENT
END:VCALENDAR