BEGIN:VCALENDAR
PRODID:-//SINGPromos.com//NONSGML v1.0//EN
VERSION:2.0
CALSCALE:GREGORIAN
METHOD:PUBLISH
X-WR-CALNAME:SINGPromos.com
X-ORIGINAL-URL:https://singpromos.com
X-WR-CALDESC:Events for SINGPromos.com
BEGIN:VEVENT
DTSTART:20121013T000000
DTEND:20121028T235900
DTSTAMP:20260420T013754
CREATED:20121011T134533
LAST-MODIFIED:20121011T145702
UID:44875@https://singpromos.com
SUMMARY:Fashion Fast Forward Mid Season Sale Up To 50% Off 13 - 28 Oct 2012
DESCRIPTION:Fashion Fast Forward's Mid Season Sale kick starts from 13 October (11 Oct for cardmembers to 28 October 2012 with up to 50% off. Brands include Ben Sherman, Dorothy Perkins, Topshop, Topman, Miss Selfridge and Bcbgmaxazria.. For more information, visit [ https://singpromos.com/fashion-accessories/fashion-fast-forward-mid-season-sale-up-to-50-off-13-28-oct-2012-44875/ ]. 
LOCATION:
URL:https://singpromos.com/fashion-accessories/fashion-fast-forward-mid-season-sale-up-to-50-off-13-28-oct-2012-44875/
END:VEVENT
END:VCALENDAR