BEGIN:VCALENDAR
PRODID:-//SINGPromos.com//NONSGML v1.0//EN
VERSION:2.0
CALSCALE:GREGORIAN
METHOD:PUBLISH
X-WR-CALNAME:SINGPromos.com
X-ORIGINAL-URL:https://singpromos.com
X-WR-CALDESC:Events for SINGPromos.com
BEGIN:VEVENT
DTSTART:20121011T000000
DTEND:20121022T235900
DTSTAMP:20260420T180649
CREATED:20121011T144856
LAST-MODIFIED:20121011T144916
UID:44881@https://singpromos.com
SUMMARY:Expedia Singapore Up To 50% Off Global Hotel Sale 11 - 22 Oct 2012
DESCRIPTION:Take advantage of Expedia's Global Hotel Sale to kick start holiday planning for a year-end getaway and enjoy huge savings on your hotel stay at some of the world's top vacation hotspots!. For more information, visit [ https://singpromos.com/vacations/expedia-singapore-up-to-50-off-global-hotel-sale-11-22-oct-2012-44881/ ]. 
LOCATION:
URL:https://singpromos.com/vacations/expedia-singapore-up-to-50-off-global-hotel-sale-11-22-oct-2012-44881/
END:VEVENT
END:VCALENDAR