BEGIN:VCALENDAR
PRODID:-//SINGPromos.com//NONSGML v1.0//EN
VERSION:2.0
CALSCALE:GREGORIAN
METHOD:PUBLISH
X-WR-CALNAME:SINGPromos.com
X-ORIGINAL-URL:https://singpromos.com
X-WR-CALDESC:Events for SINGPromos.com
BEGIN:VEVENT
DTSTART:20121013T000000
DTEND:20121019T235900
DTSTAMP:20260420T215839
CREATED:20121013T194247
LAST-MODIFIED:20121020T211849
UID:45301@https://singpromos.com
SUMMARY:Harvey Norman Digital Cameras, Furniture, Notebooks & Appliances Offers 13 - 19 Oct 2012
DESCRIPTION:Harvey Norman is having a "Freeze the Meltdown Price" promotion. DBS/POSB cardmembers receive a $20 shopping mall when you charge a minimum of $899 to your DBS/POSB debit or credit card. . For more information, visit [ https://singpromos.com/department-stores/harvey-norman-digital-cameras-furniture-notebooks-appliances-offers-13-19-oct-2012-45301/ ]. 
LOCATION:
URL:https://singpromos.com/department-stores/harvey-norman-digital-cameras-furniture-notebooks-appliances-offers-13-19-oct-2012-45301/
END:VEVENT
END:VCALENDAR