BEGIN:VCALENDAR
PRODID:-//SINGPromos.com//NONSGML v1.0//EN
VERSION:2.0
CALSCALE:GREGORIAN
METHOD:PUBLISH
X-WR-CALNAME:SINGPromos.com
X-ORIGINAL-URL:https://singpromos.com
X-WR-CALDESC:Events for SINGPromos.com
BEGIN:VEVENT
DTSTART:20121013T000000
DTEND:20121106T235900
DTSTAMP:20260422T054630
CREATED:20121013T201332
LAST-MODIFIED:20121107T005340
UID:45341@https://singpromos.com
SUMMARY:Norton Singapore 40% Off Norton 360 Coupon Code 13 Oct 2012
DESCRIPTION:Get this limited time offer for an extra 40% savings on the online purchase of Norton 360 Premier (with 25GB storage), valid for use at the Symantec Singapore online store. For more information, visit [ https://singpromos.com/computers-pc/norton-singapore-40-off-norton-360-coupon-code-13-oct-2012-45341/ ]. 
LOCATION:
URL:https://singpromos.com/computers-pc/norton-singapore-40-off-norton-360-coupon-code-13-oct-2012-45341/
END:VEVENT
END:VCALENDAR