BEGIN:VCALENDAR
PRODID:-//SINGPromos.com//NONSGML v1.0//EN
VERSION:2.0
CALSCALE:GREGORIAN
METHOD:PUBLISH
X-WR-CALNAME:SINGPromos.com
X-ORIGINAL-URL:https://singpromos.com
X-WR-CALDESC:Events for SINGPromos.com
BEGIN:VEVENT
DTSTART:20121016T000000
DTEND:20121028T235900
DTSTAMP:20260420T050919
CREATED:20121015T190327
LAST-MODIFIED:20121015T190348
UID:45422@https://singpromos.com
SUMMARY:G2000 Bazaar Sale Up To 70% Off @ Wing Tai 16 - 28 Oct 2012
DESCRIPTION:G2000 will be having a Bazaar Sale from 16 October to 28 October, 12pm to 645pm (except Mondays) at Wing Tai Industrial Centre with up to 70% off. For more information, visit [ https://singpromos.com/warehouse-sales/g2000-bazaar-sale-up-to-70-off-wing-tai-16-28-oct-2012-45422/ ]. 
LOCATION:105 Tampines Road, 535127
URL:https://singpromos.com/warehouse-sales/g2000-bazaar-sale-up-to-70-off-wing-tai-16-28-oct-2012-45422/
END:VEVENT
END:VCALENDAR