BEGIN:VCALENDAR
PRODID:-//SINGPromos.com//NONSGML v1.0//EN
VERSION:2.0
CALSCALE:GREGORIAN
METHOD:PUBLISH
X-WR-CALNAME:SINGPromos.com
X-ORIGINAL-URL:https://singpromos.com
X-WR-CALDESC:Events for SINGPromos.com
BEGIN:VEVENT
DTSTART:20121019T000000
DTEND:20121021T235900
DTSTAMP:20260424T034552
CREATED:20121016T140327
LAST-MODIFIED:20121020T192715
UID:45443@https://singpromos.com
SUMMARY:Food & Electronics Bazaar 2012 @ Singapore Expo 19 - 21 Oct 2012
DESCRIPTION:Singapore Expo will be hosting the Food & Electronics Bazaar 2012 from 19 October to 21 October 2012, 11am to 9pm at Singapore Expo Hall 5 with 3,800 electronics items going at unbelievable prices.. For more information, visit [ https://singpromos.com/happenings/food-electronics-bazaar-2012-singapore-expo-19-21-oct-2012-45443/ ]. 
LOCATION:
URL:https://singpromos.com/happenings/food-electronics-bazaar-2012-singapore-expo-19-21-oct-2012-45443/
END:VEVENT
END:VCALENDAR