BEGIN:VCALENDAR
PRODID:-//SINGPromos.com//NONSGML v1.0//EN
VERSION:2.0
CALSCALE:GREGORIAN
METHOD:PUBLISH
X-WR-CALNAME:SINGPromos.com
X-ORIGINAL-URL:https://singpromos.com
X-WR-CALDESC:Events for SINGPromos.com
BEGIN:VEVENT
DTSTART:20121026T000000
DTEND:20121130T235900
DTSTAMP:20260420T053409
CREATED:20121027T094502
LAST-MODIFIED:20121027T001948
UID:46690@https://singpromos.com
SUMMARY:Cristofori Guitar Sale 26 Oct - 30 Nov 2012
DESCRIPTION:Cristofori is having a Guitar Sale at Cristofori Music Schools till 30 November 2012 or while stocks last.. For more information, visit [ https://singpromos.com/music/cristofori-guitar-sale-26-oct-30-nov-2012-46690/ ]. 
LOCATION:
URL:https://singpromos.com/music/cristofori-guitar-sale-26-oct-30-nov-2012-46690/
END:VEVENT
END:VCALENDAR