BEGIN:VCALENDAR
PRODID:-//SINGPromos.com//NONSGML v1.0//EN
VERSION:2.0
CALSCALE:GREGORIAN
METHOD:PUBLISH
X-WR-CALNAME:SINGPromos.com
X-ORIGINAL-URL:https://singpromos.com
X-WR-CALDESC:Events for SINGPromos.com
BEGIN:VEVENT
DTSTART:20121026T000000
DTEND:20121029T235900
DTSTAMP:20260422T045428
CREATED:20121027T094916
LAST-MODIFIED:20121029T162952
UID:46701@https://singpromos.com
SUMMARY:Courts Holiday Price Cut Promotion Offers 26 - 29 Oct 2012
DESCRIPTION:Courts Megastore is having a Holiday Price Cut promotion with up to 80% off islandwide till 29 October as well as a Warehouse clearance Sale at its Megastore outlet.. For more information, visit [ https://singpromos.com/department-stores/courts-holiday-price-cut-promotion-offers-26-29-oct-2012-46701/ ]. 
LOCATION:
URL:https://singpromos.com/department-stores/courts-holiday-price-cut-promotion-offers-26-29-oct-2012-46701/
END:VEVENT
END:VCALENDAR