BEGIN:VCALENDAR
PRODID:-//SINGPromos.com//NONSGML v1.0//EN
VERSION:2.0
CALSCALE:GREGORIAN
METHOD:PUBLISH
X-WR-CALNAME:SINGPromos.com
X-ORIGINAL-URL:https://singpromos.com
X-WR-CALDESC:Events for SINGPromos.com
BEGIN:VEVENT
DTSTART:20121029T000000
DTEND:20121104T235900
DTSTAMP:20260420T001445
CREATED:20121029T182912
LAST-MODIFIED:20121029T182912
UID:46920@https://singpromos.com
SUMMARY:Air Asia FREE Seats Promotion (Excluding Taxes & Fees) 29 Oct - 4 Nov 2012
DESCRIPTION:Air Asia is offering a FREE seats promotion to various destinations from 29 October to 4 November September 2012 for travel from 1 May to 30 September 2013. Excludes taxes and fuel surcharges. For more information, visit [ https://singpromos.com/airlines-flights/air-asia-free-seats-promotion-excluding-taxes-fees-29-oct-4-nov-2012-46920/ ]. 
LOCATION:
URL:https://singpromos.com/airlines-flights/air-asia-free-seats-promotion-excluding-taxes-fees-29-oct-4-nov-2012-46920/
END:VEVENT
END:VCALENDAR