BEGIN:VCALENDAR
PRODID:-//SINGPromos.com//NONSGML v1.0//EN
VERSION:2.0
CALSCALE:GREGORIAN
METHOD:PUBLISH
X-WR-CALNAME:SINGPromos.com
X-ORIGINAL-URL:https://singpromos.com
X-WR-CALDESC:Events for SINGPromos.com
BEGIN:VEVENT
DTSTART:20121031T000000
DTEND:20121031T235900
DTSTAMP:20260422T082114
CREATED:20121031T142756
LAST-MODIFIED:20121031T142917
UID:47085@https://singpromos.com
SUMMARY:Zalora 15% OFF Storewide Coupon Code 31 Oct 2012
DESCRIPTION:Enjoy 15% on over 800 fashion and beauty brands with the below coupon code on 31 October 2012 at Zalora.sg. Not valid with other promotions or discounts. . For more information, visit [ https://singpromos.com/fashion-accessories/zalora-15-off-storewide-coupon-code-31-oct-2012-47085/ ]. 
LOCATION:
URL:https://singpromos.com/fashion-accessories/zalora-15-off-storewide-coupon-code-31-oct-2012-47085/
END:VEVENT
END:VCALENDAR