BEGIN:VCALENDAR
PRODID:-//SINGPromos.com//NONSGML v1.0//EN
VERSION:2.0
CALSCALE:GREGORIAN
METHOD:PUBLISH
X-WR-CALNAME:SINGPromos.com
X-ORIGINAL-URL:https://singpromos.com
X-WR-CALDESC:Events for SINGPromos.com
BEGIN:VEVENT
DTSTART:20121031T000000
DTEND:20121105T235900
DTSTAMP:20260422T082111
CREATED:20121031T142642
LAST-MODIFIED:20121031T142642
UID:47093@https://singpromos.com
SUMMARY:Jetstar Airways 100 Million Passengers Air Fares Sale 31 Oct - 5 Nov 2012
DESCRIPTION:Jetstar Airways is excited to celebrate that over 100 million passengers across the Jetstar Group have enjoyed their famous low fares. And to say thanks, they're having a sale with fares starting from just $28. For more information, visit [ https://singpromos.com/airlines-flights/jetstar-airways-100-million-passengers-air-fares-sale-31-oct-5-nov-2012-47093/ ]. 
LOCATION:
URL:https://singpromos.com/airlines-flights/jetstar-airways-100-million-passengers-air-fares-sale-31-oct-5-nov-2012-47093/
END:VEVENT
END:VCALENDAR