BEGIN:VCALENDAR
PRODID:-//SINGPromos.com//NONSGML v1.0//EN
VERSION:2.0
CALSCALE:GREGORIAN
METHOD:PUBLISH
X-WR-CALNAME:SINGPromos.com
X-ORIGINAL-URL:https://singpromos.com
X-WR-CALDESC:Events for SINGPromos.com
BEGIN:VEVENT
DTSTART:20121102T000000
DTEND:20121130T235900
DTSTAMP:20260424T015025
CREATED:20121103T094443
LAST-MODIFIED:20121103T041527
UID:47436@https://singpromos.com
SUMMARY:Eu Yan Seng Herbs Fest Up To 20% Off 2 - 30 Nov 2012
DESCRIPTION:Eu Yan Seng popular Herbs Fest is back with greater savings from 2 November to 30 November 2012 with up to 20% off featured products - Raw Ginseng, Raw Bird's Nest and Raw Cordyceps. For more information, visit [ https://singpromos.com/health/eu-yan-seng-herbs-fest-up-to-20-off-2-30-nov-2012-47436/ ]. 
LOCATION:
URL:https://singpromos.com/health/eu-yan-seng-herbs-fest-up-to-20-off-2-30-nov-2012-47436/
END:VEVENT
END:VCALENDAR