BEGIN:VCALENDAR
PRODID:-//SINGPromos.com//NONSGML v1.0//EN
VERSION:2.0
CALSCALE:GREGORIAN
METHOD:PUBLISH
X-WR-CALNAME:SINGPromos.com
X-ORIGINAL-URL:https://singpromos.com
X-WR-CALDESC:Events for SINGPromos.com
BEGIN:VEVENT
DTSTART:20121109T000000
DTEND:20121113T235900
DTSTAMP:20260422T045306
CREATED:20121110T111328
LAST-MODIFIED:20121114T214405
UID:48148@https://singpromos.com
SUMMARY:Courts Massive Clear-Out Promotion Offers 9 - 13 Nov 2012
DESCRIPTION:Courts Megastore is having a Massive Clear-out from 9 November to 13 November at all outlets including Jurong Point, Causeway Point, Lot 1 and Nex. There's $18 Million worth of stocks to clear at all Courts Stores & Webstore.. For more information, visit [ https://singpromos.com/department-stores/courts-massive-clear-out-promotion-offers-9-13-nov-2012-48148/ ]. 
LOCATION:
URL:https://singpromos.com/department-stores/courts-massive-clear-out-promotion-offers-9-13-nov-2012-48148/
END:VEVENT
END:VCALENDAR