BEGIN:VCALENDAR
PRODID:-//SINGPromos.com//NONSGML v1.0//EN
VERSION:2.0
CALSCALE:GREGORIAN
METHOD:PUBLISH
X-WR-CALNAME:SINGPromos.com
X-ORIGINAL-URL:https://singpromos.com
X-WR-CALDESC:Events for SINGPromos.com
BEGIN:VEVENT
DTSTART:20121117T000000
DTEND:20121117T235900
DTSTAMP:20260422T082115
CREATED:20121112T142821
LAST-MODIFIED:20121112T142821
UID:48404@https://singpromos.com
SUMMARY:Nimeshop Branded Handbags Sale Up To 70% Off @ Mandarin Orchard 17 Nov 2012
DESCRIPTION:Nimeshop will be having a luxury branded handbags sale on 17 November 2012, 11am to 4pm at Mandarin Orchard Hotel, Grange Ballroom, Level 5 with up to 70% off. For more information, visit [ https://singpromos.com/handbags/nimeshop-branded-handbags-sale-up-to-70-off-mandarin-orchard-17-nov-2012-48404/ ]. 
LOCATION:
URL:https://singpromos.com/handbags/nimeshop-branded-handbags-sale-up-to-70-off-mandarin-orchard-17-nov-2012-48404/
END:VEVENT
END:VCALENDAR