BEGIN:VCALENDAR
PRODID:-//SINGPromos.com//NONSGML v1.0//EN
VERSION:2.0
CALSCALE:GREGORIAN
METHOD:PUBLISH
X-WR-CALNAME:SINGPromos.com
X-ORIGINAL-URL:https://singpromos.com
X-WR-CALDESC:Events for SINGPromos.com
BEGIN:VEVENT
DTSTART:20121116T000000
DTEND:20121118T235900
DTSTAMP:20260420T053409
CREATED:20121113T185454
LAST-MODIFIED:20121113T155817
UID:48470@https://singpromos.com
SUMMARY:Cristofori Music Warehouse Sale 16 - 18 Nov 2012
DESCRIPTION:Cristofori is having a Music warehouse sale to clear their stocks with up to 70% off from 16 November to 18 November 2012 with various musical items going from $10.. For more information, visit [ https://singpromos.com/warehouse-sales/cristofori-music-warehouse-sale-16-18-nov-2012-48470/ ]. 
LOCATION:Blk 3014 Bedok Industrial Park E, 489980
URL:https://singpromos.com/warehouse-sales/cristofori-music-warehouse-sale-16-18-nov-2012-48470/
END:VEVENT
END:VCALENDAR