BEGIN:VCALENDAR
PRODID:-//SINGPromos.com//NONSGML v1.0//EN
VERSION:2.0
CALSCALE:GREGORIAN
METHOD:PUBLISH
X-WR-CALNAME:SINGPromos.com
X-ORIGINAL-URL:https://singpromos.com
X-WR-CALDESC:Events for SINGPromos.com
BEGIN:VEVENT
DTSTART:20121114T000000
DTEND:20121231T235900
DTSTAMP:20260422T082136
CREATED:20121119T091255
LAST-MODIFIED:20130219T201859
UID:49129@https://singpromos.com
SUMMARY:Cathay Pacific Air Fares Promotion 14 Nov - 31 Dec 2012
DESCRIPTION:Cathay Pacific is giving away a FREE 2 ngith stay, half day HKG Island and City Tour in Hong Kong when you fly to any of the listed destinations. For more information, visit [ https://singpromos.com/airlines-flights/cathay-pacific-air-fares-promotion-14-nov-31-dec-2012-49129/ ]. 
LOCATION:
URL:https://singpromos.com/airlines-flights/cathay-pacific-air-fares-promotion-14-nov-31-dec-2012-49129/
END:VEVENT
END:VCALENDAR