BEGIN:VCALENDAR
PRODID:-//SINGPromos.com//NONSGML v1.0//EN
VERSION:2.0
CALSCALE:GREGORIAN
METHOD:PUBLISH
X-WR-CALNAME:SINGPromos.com
X-ORIGINAL-URL:https://singpromos.com
X-WR-CALDESC:Events for SINGPromos.com
BEGIN:VEVENT
DTSTART:20121116T000000
DTEND:20130102T235900
DTSTAMP:20260422T082108
CREATED:20121119T104739
LAST-MODIFIED:20121119T050200
UID:49210@https://singpromos.com
SUMMARY:Famous Amos FREE 50g With 300g Purchase @ Islandwide 16 Nov 2012 - 2 Jan 2013
DESCRIPTION:Famous Amos is celebrating Christmas with a new promotion. Get 50g FREE with every 300g cookie purchase or 130gm FREE with every 600g cookies purchase. For more information, visit [ https://singpromos.com/dining-restaurants-food/famous-amos-free-50g-with-300g-purchase-islandwide-16-nov-2012-2-jan-2013-49210/ ]. 
LOCATION:
URL:https://singpromos.com/dining-restaurants-food/famous-amos-free-50g-with-300g-purchase-islandwide-16-nov-2012-2-jan-2013-49210/
END:VEVENT
END:VCALENDAR