BEGIN:VCALENDAR
PRODID:-//SINGPromos.com//NONSGML v1.0//EN
VERSION:2.0
CALSCALE:GREGORIAN
METHOD:PUBLISH
X-WR-CALNAME:SINGPromos.com
X-ORIGINAL-URL:https://singpromos.com
X-WR-CALDESC:Events for SINGPromos.com
BEGIN:VEVENT
DTSTART:20121121T000000
DTEND:20121123T235900
DTSTAMP:20260422T060736
CREATED:20121121T143809
LAST-MODIFIED:20121123T184032
UID:49347@https://singpromos.com
SUMMARY:Wavve Grill & Chill 50% Off International Buffet 21 Nov 2012
DESCRIPTION:Enjoy a plethora of Asian and International delicacies with this deal: $14.50 per pax instead of $29 for International Buffet at Wavve Grill & Chilll + Seafood on Ice + Meat Carving Station + Yakitori/Pasta/Laksa Station + Much More - that's 50% off the usual price! Learn how to get this deal before it ends soon . For more information, visit [ https://singpromos.com/dining-restaurants-food/wavve-grill-chill-50-off-international-buffet-21-nov-2012-49347/ ]. 
LOCATION:430 Lorong 6 Toa Payoh, 319402
URL:https://singpromos.com/dining-restaurants-food/wavve-grill-chill-50-off-international-buffet-21-nov-2012-49347/
END:VEVENT
END:VCALENDAR