BEGIN:VCALENDAR
PRODID:-//SINGPromos.com//NONSGML v1.0//EN
VERSION:2.0
CALSCALE:GREGORIAN
METHOD:PUBLISH
X-WR-CALNAME:SINGPromos.com
X-ORIGINAL-URL:https://singpromos.com
X-WR-CALDESC:Events for SINGPromos.com
BEGIN:VEVENT
DTSTART:20121121T000000
DTEND:20121130T235900
DTSTAMP:20260422T082127
CREATED:20121122T091608
LAST-MODIFIED:20121122T032101
UID:49365@https://singpromos.com
SUMMARY:Staff Discount X'Mas Perfume Sale 21 - 30 Nov 2012
DESCRIPTION:Staff Discount is having a X'Mas Perfume Sale at One Raffles Place, Level 1 Atrium from 21 - 23 November and 28 - 30 November 2012, 11am to 8pm daily. For more information, visit [ https://singpromos.com/fragrances-perfumes/staff-discount-xmas-perfume-sale-21-30-nov-2012-49365/ ]. 
LOCATION:1 Raffles Place
URL:https://singpromos.com/fragrances-perfumes/staff-discount-xmas-perfume-sale-21-30-nov-2012-49365/
END:VEVENT
END:VCALENDAR