BEGIN:VCALENDAR
PRODID:-//SINGPromos.com//NONSGML v1.0//EN
VERSION:2.0
CALSCALE:GREGORIAN
METHOD:PUBLISH
X-WR-CALNAME:SINGPromos.com
X-ORIGINAL-URL:https://singpromos.com
X-WR-CALDESC:Events for SINGPromos.com
BEGIN:VEVENT
DTSTART:20121129T000000
DTEND:20121212T235900
DTSTAMP:20260420T022847
CREATED:20121129T170427
LAST-MODIFIED:20121202T041407
UID:50375@https://singpromos.com
SUMMARY:NTUC Fairprice Electronics Offers 29 Nov - 12 Dec 2012 
DESCRIPTION:NTUC Fairprice is having a Basics for Home Promotion from 29 November to 12 December 2012 with special offers on selected corded desk / DECT phones and office items. For more information, visit [ https://singpromos.com/department-stores/ntuc-fairprice-electronics-offers-29-nov-12-dec-2012-50375/ ]. 
LOCATION:
URL:https://singpromos.com/department-stores/ntuc-fairprice-electronics-offers-29-nov-12-dec-2012-50375/
END:VEVENT
END:VCALENDAR