BEGIN:VCALENDAR
PRODID:-//SINGPromos.com//NONSGML v1.0//EN
VERSION:2.0
CALSCALE:GREGORIAN
METHOD:PUBLISH
X-WR-CALNAME:SINGPromos.com
X-ORIGINAL-URL:https://singpromos.com
X-WR-CALDESC:Events for SINGPromos.com
BEGIN:VEVENT
DTSTART:20121203T000000
DTEND:20121203T235900
DTSTAMP:20260420T013814
CREATED:20121203T082744
LAST-MODIFIED:20121203T023003
UID:50608@https://singpromos.com
SUMMARY:Love Bonito New Countdown To Christmas I Launch 3 Dec 2012
DESCRIPTION:It's the time of the year when merriment fills the air! Be party-ready and dress to the season in knits, outerwear and all things shimmery!. For more information, visit [ https://singpromos.com/fashion-accessories/love-bonito-new-countdown-to-christmas-i-launch-3-dec-2012-50608/ ]. 
LOCATION:
URL:https://singpromos.com/fashion-accessories/love-bonito-new-countdown-to-christmas-i-launch-3-dec-2012-50608/
END:VEVENT
END:VCALENDAR