BEGIN:VCALENDAR
PRODID:-//SINGPromos.com//NONSGML v1.0//EN
VERSION:2.0
CALSCALE:GREGORIAN
METHOD:PUBLISH
X-WR-CALNAME:SINGPromos.com
X-ORIGINAL-URL:https://singpromos.com
X-WR-CALDESC:Events for SINGPromos.com
BEGIN:VEVENT
DTSTART:20121205T000000
DTEND:20121212T235900
DTSTAMP:20260422T060838
CREATED:20121205T144540
LAST-MODIFIED:20121213T232433
UID:50755@https://singpromos.com
SUMMARY:Wavve Grill & Chill 52% off All-You-Can-Eat Spanish Buffet 5 Dec 2012
DESCRIPTION:Feast to your heart's content at Wavve Grill & Chill's Spanish buffet with this deal: $18.80 per pax instead of $38.80 for All-You-Can-Eat Spanish Buffet at Wavve Grill & Chill, Toa Payoh Central, Includes Famous Roast Suckling Pig, Paella & Tapas - that's 52% off the usual price! Learn how to get this deal before it ends soon. For more information, visit [ https://singpromos.com/dining-restaurants-food/wavve-grill-chill-52-off-all-you-can-eat-spanish-buffet-5-dec-2012-50755/ ]. 
LOCATION:430 Lorong 6 Toa Payoh, 319402
URL:https://singpromos.com/dining-restaurants-food/wavve-grill-chill-52-off-all-you-can-eat-spanish-buffet-5-dec-2012-50755/
END:VEVENT
END:VCALENDAR