BEGIN:VCALENDAR
PRODID:-//SINGPromos.com//NONSGML v1.0//EN
VERSION:2.0
CALSCALE:GREGORIAN
METHOD:PUBLISH
X-WR-CALNAME:SINGPromos.com
X-ORIGINAL-URL:https://singpromos.com
X-WR-CALDESC:Events for SINGPromos.com
BEGIN:VEVENT
DTSTART:20121207T000000
DTEND:20130113T235900
DTSTAMP:20260420T013814
CREATED:20121206T132323
LAST-MODIFIED:20121211T035035
UID:50858@https://singpromos.com
SUMMARY:Bcbgmaxazria, Karen Millen, Warehouse, Wallis & Maxstudio.Com 7 Dec 2012 - 13 Jan 2013
DESCRIPTION:Fashion Fast Forward has started the End of Season sale for Bcbgmaxazria, Karen Millen, Warehouse, Wallis & Maxstudio.Com brands till 13 January 2013. . For more information, visit [ https://singpromos.com/fashion-accessories/bcbgmaxazria-karen-millen-warehouse-wallis-maxstudio-com-7-16-dec-2012-50858/ ]. 
LOCATION:
URL:https://singpromos.com/fashion-accessories/bcbgmaxazria-karen-millen-warehouse-wallis-maxstudio-com-7-16-dec-2012-50858/
END:VEVENT
END:VCALENDAR