BEGIN:VCALENDAR
PRODID:-//SINGPromos.com//NONSGML v1.0//EN
VERSION:2.0
CALSCALE:GREGORIAN
METHOD:PUBLISH
X-WR-CALNAME:SINGPromos.com
X-ORIGINAL-URL:https://singpromos.com
X-WR-CALDESC:Events for SINGPromos.com
BEGIN:VEVENT
DTSTART:20121208T000000
DTEND:20121209T235900
DTSTAMP:20260424T015019
CREATED:20121208T202504
LAST-MODIFIED:20121208T202504
UID:51340@https://singpromos.com
SUMMARY:Eu Yan Sang 20% Off Storewide Promotion 8 - 9 Dec 2012
DESCRIPTION:Eu Yan Sang welcoems a hearty and joyful season with a 20% off storewide till 9 December 2012. Not valid for member discounts, hampers, non-Eu Yan Sang branded products, prescription, promotional items and star buys. For more information, visit [ https://singpromos.com/health/eu-yan-sang-20-off-storewide-promotion-8-9-dec-2012-51340/ ]. 
LOCATION:
URL:https://singpromos.com/health/eu-yan-sang-20-off-storewide-promotion-8-9-dec-2012-51340/
END:VEVENT
END:VCALENDAR