BEGIN:VCALENDAR
PRODID:-//SINGPromos.com//NONSGML v1.0//EN
VERSION:2.0
CALSCALE:GREGORIAN
METHOD:PUBLISH
X-WR-CALNAME:SINGPromos.com
X-ORIGINAL-URL:https://singpromos.com
X-WR-CALDESC:Events for SINGPromos.com
BEGIN:VEVENT
DTSTART:20121215T000000
DTEND:20121216T235900
DTSTAMP:20260422T082114
CREATED:20121210T125513
LAST-MODIFIED:20121217T224349
UID:51521@https://singpromos.com
SUMMARY:Nimeshop Branded Handbags Sale Up To 70% Off 15 - 16 Dec 2012
DESCRIPTION:Nimeshop will be having a luxury branded handbags sale on 15 December 2012, 11am to 4pm at Singapore Marriott Hotel, Ballroom 3 and on 16 December 2012, 11am to 5pm at Singapore Expo Hall GHJ. For more information, visit [ https://singpromos.com/handbags/nimeshop-branded-handbags-sale-up-to-70-off-15-16-dec-2012-51521/ ]. 
LOCATION:
URL:https://singpromos.com/handbags/nimeshop-branded-handbags-sale-up-to-70-off-15-16-dec-2012-51521/
END:VEVENT
END:VCALENDAR