BEGIN:VCALENDAR
PRODID:-//SINGPromos.com//NONSGML v1.0//EN
VERSION:2.0
CALSCALE:GREGORIAN
METHOD:PUBLISH
X-WR-CALNAME:SINGPromos.com
X-ORIGINAL-URL:https://singpromos.com
X-WR-CALDESC:Events for SINGPromos.com
BEGIN:VEVENT
DTSTART:20121220T000000
DTEND:20121222T235900
DTSTAMP:20260420T230407
CREATED:20121211T130031
LAST-MODIFIED:20121211T041745
UID:51616@https://singpromos.com
SUMMARY:vsHub Branded Fashion, Apparel & More Warehouse Clearance Sale 20 - 22 Dec 2012
DESCRIPTION:Tricore Pte Ltd (vsHub) will be having a warehouse sale from 20 December to 22 December 2012, 10am to 6pm at The Grassroots Club, Private Room Level 2 with up to 50% off. For more information, visit [ https://singpromos.com/warehouse-sales/vshub-branded-fashion-apparel-more-warehouse-clearance-sale-20-22-dec-2012-51616/ ]. 
LOCATION:190 Ang Mo Kio Avenue 8, 568046
URL:https://singpromos.com/warehouse-sales/vshub-branded-fashion-apparel-more-warehouse-clearance-sale-20-22-dec-2012-51616/
END:VEVENT
END:VCALENDAR