BEGIN:VCALENDAR
PRODID:-//SINGPromos.com//NONSGML v1.0//EN
VERSION:2.0
CALSCALE:GREGORIAN
METHOD:PUBLISH
X-WR-CALNAME:SINGPromos.com
X-ORIGINAL-URL:https://singpromos.com
X-WR-CALDESC:Events for SINGPromos.com
BEGIN:VEVENT
DTSTART:20121215T000000
DTEND:20121216T235900
DTSTAMP:20260424T020639
CREATED:20121215T170708
LAST-MODIFIED:20121216T171142
UID:52402@https://singpromos.com
SUMMARY:Courts New Megastore Grand Opening Sale 15 - 16 Dec 2012
DESCRIPTION:Courts new Megastore Grand Opening promotions and offers continues with deals extended to islandwide outlets including Jurong Point, Causeway Point, Lot 1 and Nex.. For more information, visit [ https://singpromos.com/department-stores/courts-new-megastore-grand-opening-sale-15-16-dec-2012-52402/ ]. 
LOCATION:
URL:https://singpromos.com/department-stores/courts-new-megastore-grand-opening-sale-15-16-dec-2012-52402/
END:VEVENT
END:VCALENDAR