BEGIN:VCALENDAR
PRODID:-//SINGPromos.com//NONSGML v1.0//EN
VERSION:2.0
CALSCALE:GREGORIAN
METHOD:PUBLISH
X-WR-CALNAME:SINGPromos.com
X-ORIGINAL-URL:https://singpromos.com
X-WR-CALDESC:Events for SINGPromos.com
BEGIN:VEVENT
DTSTART:20121214T000000
DTEND:20121231T235900
DTSTAMP:20260420T053410
CREATED:20121214T155230
LAST-MODIFIED:20121217T035456
UID:52465@https://singpromos.com
SUMMARY:Cristofori Showrooms Music Sale 14 - 31 Dec 2012
DESCRIPTION:Cristofori showrooms are having a Absolutely Music sale at Funan Digitalife Mall and Junction 8 till 31 December 2012. For more information, visit [ https://singpromos.com/music/cristofori-showrooms-music-sale-14-31-dec-2012-52465/ ]. 
LOCATION:
URL:https://singpromos.com/music/cristofori-showrooms-music-sale-14-31-dec-2012-52465/
END:VEVENT
END:VCALENDAR