BEGIN:VCALENDAR
PRODID:-//SINGPromos.com//NONSGML v1.0//EN
VERSION:2.0
CALSCALE:GREGORIAN
METHOD:PUBLISH
X-WR-CALNAME:SINGPromos.com
X-ORIGINAL-URL:https://singpromos.com
X-WR-CALDESC:Events for SINGPromos.com
BEGIN:VEVENT
DTSTART:20121219T000000
DTEND:20130120T235900
DTSTAMP:20260422T082109
CREATED:20121219T093853
LAST-MODIFIED:20121225T214411
UID:52628@https://singpromos.com
SUMMARY:G2000 & AT-20 End of Season Sale Up To 50% Off 19 Dec 2012 - 20 Jan 2013
DESCRIPTION:Be the first in line at the G2000 and G2000 AT-20 End Season Sale, with up to 50% off storewide on the Fall / Winter collection from December 19, 2012 – January 20, 2013.. For more information, visit [ https://singpromos.com/fashion-accessories/g2000-at-20-end-of-season-sale-up-to-50-off-19-dec-2012-20-jan-2013-52628/ ]. 
LOCATION:
URL:https://singpromos.com/fashion-accessories/g2000-at-20-end-of-season-sale-up-to-50-off-19-dec-2012-20-jan-2013-52628/
END:VEVENT
END:VCALENDAR