BEGIN:VCALENDAR
PRODID:-//SINGPromos.com//NONSGML v1.0//EN
VERSION:2.0
CALSCALE:GREGORIAN
METHOD:PUBLISH
X-WR-CALNAME:SINGPromos.com
X-ORIGINAL-URL:https://singpromos.com
X-WR-CALDESC:Events for SINGPromos.com
BEGIN:VEVENT
DTSTART:20110324T000000
DTEND:20110327T235900
DTSTAMP:20260422T082113
CREATED:20110325T003405
LAST-MODIFIED:20110326T015616
UID:5286@https://singpromos.com
SUMMARY:Carrefour Sale @ Singapore Expo Up To 80% Off 24 - 27 Mar 2011
DESCRIPTION:Carrefour is having a Mega Expo Sale at Singapore Expo from 24 - 27 Mar 2011, 10am to 10pm Hall 5A. Items start from $1 and includes brands such as Akira, Santa Barbara, Magicsing, Asics, Ossion and over 200 brands. For more information, visit [ https://singpromos.com/computers-pc/carrefour-sale-singapore-expo-up-to-80-off-24-27-mar-2011-5286/ ]. 
LOCATION:
URL:https://singpromos.com/computers-pc/carrefour-sale-singapore-expo-up-to-80-off-24-27-mar-2011-5286/
END:VEVENT
END:VCALENDAR