BEGIN:VCALENDAR
PRODID:-//SINGPromos.com//NONSGML v1.0//EN
VERSION:2.0
CALSCALE:GREGORIAN
METHOD:PUBLISH
X-WR-CALNAME:SINGPromos.com
X-ORIGINAL-URL:https://singpromos.com
X-WR-CALDESC:Events for SINGPromos.com
BEGIN:VEVENT
DTSTART:20110324T000000
DTEND:20110330T235900
DTSTAMP:20260422T082111
CREATED:20110325T013510
LAST-MODIFIED:20110325T013510
UID:5304@https://singpromos.com
SUMMARY:Watsons 25% Off Cosmetic Brands 24 - 30 Mar 2011
DESCRIPTION:Watsons is slashing off 25% of cosmetic brands such as Canmake Tokyo, Rimmel London, Sally Hansen, Silkygirl and Za. See ad image for more details. For more information, visit [ https://singpromos.com/cosmetics/watsons-25-off-cosmetic-brands-24-30-mar-2011-5304/ ]. 
LOCATION:
URL:https://singpromos.com/cosmetics/watsons-25-off-cosmetic-brands-24-30-mar-2011-5304/
END:VEVENT
END:VCALENDAR