BEGIN:VCALENDAR
PRODID:-//SINGPromos.com//NONSGML v1.0//EN
VERSION:2.0
CALSCALE:GREGORIAN
METHOD:PUBLISH
X-WR-CALNAME:SINGPromos.com
X-ORIGINAL-URL:https://singpromos.com
X-WR-CALDESC:Events for SINGPromos.com
BEGIN:VEVENT
DTSTART:20110325T000000
DTEND:20110327T235900
DTSTAMP:20260422T082115
CREATED:20110325T015151
LAST-MODIFIED:20110325T015151
UID:5308@https://singpromos.com
SUMMARY:JobsDB.com Career Expo 2011 Job Fair @ Suntec 25 - 27 Mar 2011 
DESCRIPTION:Heads up for those looking for a new job or thinking of switching jobs - JobsDB is having a Career Expo 2011 from 25 - 27 March 2011 at Suntec Convention Halls 402 & 403 10am - 7pm. For more information, visit [ https://singpromos.com/happenings/jobsdb-com-career-expo-2011-job-fair-suntec-25-27-mar-2011-5308/ ]. 
LOCATION:
URL:https://singpromos.com/happenings/jobsdb-com-career-expo-2011-job-fair-suntec-25-27-mar-2011-5308/
END:VEVENT
END:VCALENDAR