BEGIN:VCALENDAR
PRODID:-//SINGPromos.com//NONSGML v1.0//EN
VERSION:2.0
CALSCALE:GREGORIAN
METHOD:PUBLISH
X-WR-CALNAME:SINGPromos.com
X-ORIGINAL-URL:https://singpromos.com
X-WR-CALDESC:Events for SINGPromos.com
BEGIN:VEVENT
DTSTART:20121228T000000
DTEND:20121230T235900
DTSTAMP:20260422T082309
CREATED:20121229T132259
LAST-MODIFIED:20130225T203912
UID:53987@https://singpromos.com
SUMMARY:Black Hammer & Anna Black Warehouse Sale 28 - 30 Dec 2012
DESCRIPTION:Black Hammer and Anna Black are having a Warehouse Sale from 28 December to 30 December 2012 at AMK Hub and Jurong Point. For more information, visit [ https://singpromos.com/warehouse-sales/black-hammer-anna-black-warehouse-sale-28-30-dec-2012-53987/ ]. 
LOCATION:
URL:https://singpromos.com/warehouse-sales/black-hammer-anna-black-warehouse-sale-28-30-dec-2012-53987/
END:VEVENT
END:VCALENDAR