BEGIN:VCALENDAR
PRODID:-//SINGPromos.com//NONSGML v1.0//EN
VERSION:2.0
CALSCALE:GREGORIAN
METHOD:PUBLISH
X-WR-CALNAME:SINGPromos.com
X-ORIGINAL-URL:https://singpromos.com
X-WR-CALDESC:Events for SINGPromos.com
BEGIN:VEVENT
DTSTART:20121229T000000
DTEND:20130101T235900
DTSTAMP:20260420T020918
CREATED:20121230T133835
LAST-MODIFIED:20121230T133835
UID:54102@https://singpromos.com
SUMMARY:Cristofori Piano Warehouse Sale 28 Dec 2012 - 1 Jan 2013
DESCRIPTION:Cristofori is having a Piano Warehouse Sale from 29 Dec 2012 to 1 st Jan 2013 at Block 3014 Bedok Industrial Park. For more information, visit [ https://singpromos.com/music/cristofori-piano-warehouse-sale-28-dec-2012-1-jan-2013-54102/ ]. 
LOCATION:
URL:https://singpromos.com/music/cristofori-piano-warehouse-sale-28-dec-2012-1-jan-2013-54102/
END:VEVENT
END:VCALENDAR