BEGIN:VCALENDAR
PRODID:-//SINGPromos.com//NONSGML v1.0//EN
VERSION:2.0
CALSCALE:GREGORIAN
METHOD:PUBLISH
X-WR-CALNAME:SINGPromos.com
X-ORIGINAL-URL:https://singpromos.com
X-WR-CALDESC:Events for SINGPromos.com
BEGIN:VEVENT
DTSTART:20121124T000000
DTEND:20121125T235900
DTSTAMP:20260423T220339
CREATED:20121124T143907
LAST-MODIFIED:20130105T024301
UID:54590@https://singpromos.com
SUMMARY:Courts Year End Sale 24 - 25 Nov 2012
DESCRIPTION:Courts has started their Year End Sale, their biggest in-store and online sale ever with 12 reasons supplied to shop now. For more information, visit [ https://singpromos.com/department-stores/courts-year-end-sale-24-25-nov-2012-54590/ ]. 
LOCATION:
URL:https://singpromos.com/department-stores/courts-year-end-sale-24-25-nov-2012-54590/
END:VEVENT
END:VCALENDAR