BEGIN:VCALENDAR
PRODID:-//SINGPromos.com//NONSGML v1.0//EN
VERSION:2.0
CALSCALE:GREGORIAN
METHOD:PUBLISH
X-WR-CALNAME:SINGPromos.com
X-ORIGINAL-URL:https://singpromos.com
X-WR-CALDESC:Events for SINGPromos.com
BEGIN:VEVENT
DTSTART:20130105T000000
DTEND:20130111T235900
DTSTAMP:20260424T023531
CREATED:20130105T131536
LAST-MODIFIED:20130105T131536
UID:54644@https://singpromos.com
SUMMARY:M1 Smartphones, Tablets & Home/Mobile Broadband Offers 5 - 11 Jan 2013
DESCRIPTION:Here is M1′s mobile phones, tablets, home broadband and mobile broadband promotions and special offers presumably valid till 11 Jan 2013. For more information, visit [ https://singpromos.com/telecoms/m1-smartphones-tablets-homemobile-broadband-offers-5-11-jan-2013-54644/ ]. 
LOCATION:
URL:https://singpromos.com/telecoms/m1-smartphones-tablets-homemobile-broadband-offers-5-11-jan-2013-54644/
END:VEVENT
END:VCALENDAR