BEGIN:VCALENDAR
PRODID:-//SINGPromos.com//NONSGML v1.0//EN
VERSION:2.0
CALSCALE:GREGORIAN
METHOD:PUBLISH
X-WR-CALNAME:SINGPromos.com
X-ORIGINAL-URL:https://singpromos.com
X-WR-CALDESC:Events for SINGPromos.com
BEGIN:VEVENT
DTSTART:20130107T000000
DTEND:20131231T235900
DTSTAMP:20260422T212539
CREATED:20130107T144301
LAST-MODIFIED:20130107T144519
UID:54857@https://singpromos.com
SUMMARY:Shaw Theatres Student Concession Promotion 7 Jan - 31 Dec 2013
DESCRIPTION:Students enjoy movies at special concession rate from $6.50 at all Shaw Theatres till 31 December 2013. For more information, visit [ https://singpromos.com/places-of-interest/shaw-theatres-student-concession-promotion-7-jan-31-dec-2013-54857/ ]. 
LOCATION:
URL:https://singpromos.com/places-of-interest/shaw-theatres-student-concession-promotion-7-jan-31-dec-2013-54857/
END:VEVENT
END:VCALENDAR