BEGIN:VCALENDAR
PRODID:-//SINGPromos.com//NONSGML v1.0//EN
VERSION:2.0
CALSCALE:GREGORIAN
METHOD:PUBLISH
X-WR-CALNAME:SINGPromos.com
X-ORIGINAL-URL:https://singpromos.com
X-WR-CALDESC:Events for SINGPromos.com
BEGIN:VEVENT
DTSTART:20130110T000000
DTEND:20130116T235900
DTSTAMP:20260420T074445
CREATED:20130111T130343
LAST-MODIFIED:20130111T130344
UID:55078@https://singpromos.com
SUMMARY:Watsons Personal Care, Health, Cosmetics &amp; Beauty Offers 10 - 16 Jan 2013
DESCRIPTION:Here is Watsons' latest Weekly sale from 10 Jan 2013 to 16 Jan 2013 with up to 39% off selected brands include Dove, Blackmores, Loreal, Bio-Essence, Revlon and more. For more information, visit [ https://singpromos.com/department-stores/watsons-personal-care-health-cosmetics-beauty-offers-10-16-jan-2013-55078/ ]. 
LOCATION:
URL:https://singpromos.com/department-stores/watsons-personal-care-health-cosmetics-beauty-offers-10-16-jan-2013-55078/
END:VEVENT
END:VCALENDAR